BEGIN:VCALENDAR
VERSION:2.0
PRODID:apcentral.collegeboard.org
X-WR-TIMEZONE:America/New_York
BEGIN:VTIMEZONE
TZID:America/New_York
X-LIC-LOCATION:America/New_York
BEGIN:DAYLIGHT
TZNAME:EDT
TZOFFSETFROM:-0500
TZOFFSETTO:-0400
DTSTART:19700308T020000
RRULE:FREQ=YEARLY;INTERVAL=1;BYMONTH=3;BYDAY=2SU
END:DAYLIGHT
BEGIN:STANDARD
TZNAME:EST
TZOFFSETFROM:-0400
TZOFFSETTO:-0500
DTSTART:19701101T020000
RRULE:FREQ=YEARLY;INTERVAL=1;BYMONTH=11;BYDAY=1SU
END:STANDARD
END:VTIMEZONE
BEGIN:VEVENT
UID:69ea4abc944af
DTSTART;VALUE=DATE:20270131
SEQUENCE:0
TRANSP:OPAQUE
DTEND;VALUE=DATE:20270201
SUMMARY:Final deadline to submit initial AP Course Audit materials for AP S
 eminar and AP Research.
CLASS:PUBLIC
X-MICROSOFT-CDO-ALLDAYEVENT:TRUE
DTSTAMP:20260423T163716Z
END:VEVENT
END:VCALENDAR