BEGIN:VCALENDAR
VERSION:2.0
PRODID:apcentral.collegeboard.org
X-WR-TIMEZONE:America/New_York
BEGIN:VTIMEZONE
TZID:America/New_York
X-LIC-LOCATION:America/New_York
BEGIN:DAYLIGHT
TZNAME:EDT
TZOFFSETFROM:-0500
TZOFFSETTO:-0400
DTSTART:19700308T020000
RRULE:FREQ=YEARLY;INTERVAL=1;BYMONTH=3;BYDAY=2SU
END:DAYLIGHT
BEGIN:STANDARD
TZNAME:EST
TZOFFSETFROM:-0400
TZOFFSETTO:-0500
DTSTART:19701101T020000
RRULE:FREQ=YEARLY;INTERVAL=1;BYMONTH=11;BYDAY=1SU
END:STANDARD
END:VTIMEZONE
BEGIN:VEVENT
UID:69e887a140fb4
DTSTART;TZID=America/New_York:20230118T130418
SEQUENCE:0
TRANSP:OPAQUE
DTEND;TZID=America/New_York:20230118T130418
SUMMARY:AP Course Audit Opens for the 2023-24 School Year 
CLASS:PUBLIC
DTSTAMP:20260422T083233Z
END:VEVENT
END:VCALENDAR